BEGIN:VCALENDAR
VERSION:2.0
PRODID:-//English Graduate Organization - ECPv5.0.2//NONSGML v1.0//EN
CALSCALE:GREGORIAN
METHOD:PUBLISH
X-WR-CALNAME:English Graduate Organization
X-ORIGINAL-URL:https://ego.syr.edu
X-WR-CALDESC:Events for English Graduate Organization
BEGIN:VTIMEZONE
TZID:America/New_York
BEGIN:DAYLIGHT
TZOFFSETFROM:-0500
TZOFFSETTO:-0400
TZNAME:EDT
DTSTART:20210314T070000
END:DAYLIGHT
BEGIN:STANDARD
TZOFFSETFROM:-0400
TZOFFSETTO:-0500
TZNAME:EST
DTSTART:20211107T060000
END:STANDARD
END:VTIMEZONE
BEGIN:VEVENT
DTSTART;TZID=America/New_York:20210312T150000
DTEND;TZID=America/New_York:20210312T170000
DTSTAMP:20260422T221450
CREATED:20210301T173132Z
LAST-MODIFIED:20210301T173132Z
UID:1412-1615561200-1615568400@ego.syr.edu
SUMMARY:EGO Meeting
DESCRIPTION:Our EGO meetings will be from 3-5pm on the second Friday of each month. Join us! \nCheck your email for the Zoom link! \n
URL:https://ego.syr.edu/event/ego-meeting-8/
END:VEVENT
END:VCALENDAR