BEGIN:VCALENDAR
VERSION:2.0
PRODID:-//English Graduate Organization - ECPv5.0.2//NONSGML v1.0//EN
CALSCALE:GREGORIAN
METHOD:PUBLISH
X-WR-CALNAME:English Graduate Organization
X-ORIGINAL-URL:https://ego.syr.edu
X-WR-CALDESC:Events for English Graduate Organization
BEGIN:VTIMEZONE
TZID:America/New_York
BEGIN:DAYLIGHT
TZOFFSETFROM:-0500
TZOFFSETTO:-0400
TZNAME:EDT
DTSTART:20210314T070000
END:DAYLIGHT
BEGIN:STANDARD
TZOFFSETFROM:-0400
TZOFFSETTO:-0500
TZNAME:EST
DTSTART:20211107T060000
END:STANDARD
END:VTIMEZONE
BEGIN:VEVENT
DTSTART;TZID=America/New_York:20210826T180000
DTEND;TZID=America/New_York:20210826T210000
DTSTAMP:20260420T023511
CREATED:20210823T190508Z
LAST-MODIFIED:20210823T190508Z
UID:1516-1630000800-1630011600@ego.syr.edu
SUMMARY:GSO Picnic
DESCRIPTION:Every semester\, GSO hosts a picnic for all graduate students. This semester it is in person again and at the Inn Complete (no takeout plastic cups of booze that you can drive away with this year!)\, 6pm-9pm on Thursday\, August 26th. You will need your student ID and if you want alcohol\, a valid state ID too. \nThis event is free and open to all graduate students! \n
URL:https://ego.syr.edu/event/gso-picnic/
LOCATION:Inn Complete
END:VEVENT
END:VCALENDAR