BEGIN:VCALENDAR
VERSION:2.0
PRODID:-//English Graduate Organization - ECPv5.0.2//NONSGML v1.0//EN
CALSCALE:GREGORIAN
METHOD:PUBLISH
X-WR-CALNAME:English Graduate Organization
X-ORIGINAL-URL:https://ego.syr.edu
X-WR-CALDESC:Events for English Graduate Organization
BEGIN:VTIMEZONE
TZID:America/New_York
BEGIN:DAYLIGHT
TZOFFSETFROM:-0500
TZOFFSETTO:-0400
TZNAME:EDT
DTSTART:20200308T070000
END:DAYLIGHT
BEGIN:STANDARD
TZOFFSETFROM:-0400
TZOFFSETTO:-0500
TZNAME:EST
DTSTART:20201101T060000
END:STANDARD
END:VTIMEZONE
BEGIN:VEVENT
DTSTART;TZID=America/New_York:20200911T130000
DTEND;TZID=America/New_York:20200911T140000
DTSTAMP:20260422T141112
CREATED:20200828T182722Z
LAST-MODIFIED:20200828T182722Z
UID:1300-1599829200-1599832800@ego.syr.edu
SUMMARY:MFA Reintegration EGO Meeting
DESCRIPTION:This is a joint MA/PhD and MFA meeting to discuss the potentials for reintegrating the MFAs into the English Graduate Organization. Please check your email for our welcome letting to the MFA side and for the Zoom link to the meeting. \nThis meeting is open to all! \n
URL:https://ego.syr.edu/event/mfa-reintegration-ego-meeting/
END:VEVENT
END:VCALENDAR