BEGIN:VCALENDAR
VERSION:2.0
PRODID:-//English Graduate Organization - ECPv5.0.2//NONSGML v1.0//EN
CALSCALE:GREGORIAN
METHOD:PUBLISH
X-WR-CALNAME:English Graduate Organization
X-ORIGINAL-URL:https://ego.syr.edu
X-WR-CALDESC:Events for English Graduate Organization
BEGIN:VTIMEZONE
TZID:America/New_York
BEGIN:DAYLIGHT
TZOFFSETFROM:-0500
TZOFFSETTO:-0400
TZNAME:EDT
DTSTART:20210314T070000
END:DAYLIGHT
BEGIN:STANDARD
TZOFFSETFROM:-0400
TZOFFSETTO:-0500
TZNAME:EST
DTSTART:20211107T060000
END:STANDARD
END:VTIMEZONE
BEGIN:VEVENT
DTSTART;TZID=America/New_York:20210325T163000
DTEND;TZID=America/New_York:20210325T183000
DTSTAMP:20260423T021832
CREATED:20210321T173259Z
LAST-MODIFIED:20210321T173259Z
UID:1437-1616689800-1616697000@ego.syr.edu
SUMMARY:New PhD Admit Meet-and-Greet
DESCRIPTION:Check your email for the Zoom link. \n
URL:https://ego.syr.edu/event/new-phd-admit-meet-and-greet/
END:VEVENT
END:VCALENDAR