BEGIN:VCALENDAR
VERSION:2.0
PRODID:-//English Graduate Organization - ECPv5.0.2//NONSGML v1.0//EN
CALSCALE:GREGORIAN
METHOD:PUBLISH
X-WR-CALNAME:English Graduate Organization
X-ORIGINAL-URL:https://ego.syr.edu
X-WR-CALDESC:Events for English Graduate Organization
BEGIN:VTIMEZONE
TZID:America/New_York
BEGIN:DAYLIGHT
TZOFFSETFROM:-0500
TZOFFSETTO:-0400
TZNAME:EDT
DTSTART:20220313T070000
END:DAYLIGHT
BEGIN:STANDARD
TZOFFSETFROM:-0400
TZOFFSETTO:-0500
TZNAME:EST
DTSTART:20221106T060000
END:STANDARD
END:VTIMEZONE
BEGIN:VEVENT
DTSTART;TZID=America/New_York:20220430T140000
DTEND;TZID=America/New_York:20220430T180000
DTSTAMP:20260423T041816
CREATED:20220420T144956Z
LAST-MODIFIED:20220420T144956Z
UID:1646-1651327200-1651341600@ego.syr.edu
SUMMARY:Quiz Bowl Event
DESCRIPTION:There will be a Quizbowl Tournament on (April 30th from 2-6 pm) open to both graduate students AND faculty. \nFor those who don’t know\, Quizbowl is a team-based trivia format (teams of up to 3) that has a slightly more academic slant (less like bar trivia\, though still plenty of pop culture) and is super fun!!!  😊 \nWe are planning to have food/drink at this event as a kind of end-of-semester celebration and we will have prizes for the winners! \n
URL:https://ego.syr.edu/event/quiz-bowl-event/
LOCATION:TBA
END:VEVENT
END:VCALENDAR