BEGIN:VCALENDAR
VERSION:2.0
PRODID:-//English Graduate Organization - ECPv5.0.2//NONSGML v1.0//EN
CALSCALE:GREGORIAN
METHOD:PUBLISH
X-WR-CALNAME:English Graduate Organization
X-ORIGINAL-URL:https://ego.syr.edu
X-WR-CALDESC:Events for English Graduate Organization
BEGIN:VTIMEZONE
TZID:America/New_York
BEGIN:DAYLIGHT
TZOFFSETFROM:-0500
TZOFFSETTO:-0400
TZNAME:EDT
DTSTART:20210314T070000
END:DAYLIGHT
BEGIN:STANDARD
TZOFFSETFROM:-0400
TZOFFSETTO:-0500
TZNAME:EST
DTSTART:20211107T060000
END:STANDARD
END:VTIMEZONE
BEGIN:VEVENT
DTSTART;TZID=America/New_York:20210903T140000
DTEND;TZID=America/New_York:20210903T160000
DTSTAMP:20260423T011459
CREATED:20210830T174521Z
LAST-MODIFIED:20210830T174521Z
UID:1531-1630677600-1630684800@ego.syr.edu
SUMMARY:September EGO Meeting
DESCRIPTION:Our first EGO meeting will be this Friday. We will make space at this initial meeting to give introductions to EGO\, discuss Covid policies and classroom assignments\, address any latent business from the summer and previous semester\, and nominate our First-Year Representative! Our constitution is also in need of some amendments\, so we will attempt to make space for that in this first meeting if possible. Reminder that EGO meetings are open to all English graduate students. Please feel free to come and discuss these topics or raise any questions/concerns you might have! The room assignment is still TBD. \n  \n
URL:https://ego.syr.edu/event/september-ego-meeting-2/
END:VEVENT
END:VCALENDAR